BEGIN:VCALENDAR
VERSION:2.0
PRODID:-//wp-events-plugin.com//7.2.3.1//EN
TZID:Europe/Vienna
X-WR-TIMEZONE:Europe/Vienna
BEGIN:VEVENT
UID:212@oegv-tulln.at
DTSTART;TZID=Europe/Berlin:20231014T150000
DTEND;TZID=Europe/Berlin:20231014T163000
DTSTAMP:20230705T111325Z
URL:https://www.oegv-tulln.at/events/alltagskurs-2023-10-14/
SUMMARY:Alltagskurs
DESCRIPTION:
CATEGORIES:Kursbetrieb
LOCATION:ÖGV Tulln\, Königstetterstrasse\, Tulln\, 3430\, Österreich
X-APPLE-STRUCTURED-LOCATION;VALUE=URI;X-ADDRESS=Königstetterstrasse\, Tull
 n\, 3430\, Österreich;X-APPLE-RADIUS=100;X-TITLE=ÖGV Tulln:geo:0,0
END:VEVENT
BEGIN:VTIMEZONE
TZID:Europe/Berlin
X-LIC-LOCATION:Europe/Berlin
BEGIN:DAYLIGHT
DTSTART:20230326T030000
TZOFFSETFROM:+0100
TZOFFSETTO:+0200
TZNAME:CEST
END:DAYLIGHT
END:VTIMEZONE
END:VCALENDAR