BEGIN:VCALENDAR
VERSION:2.0
PRODID:-//wp-events-plugin.com//7.2.3.1//EN
TZID:Europe/Vienna
X-WR-TIMEZONE:Europe/Vienna
BEGIN:VEVENT
UID:247@oegv-tulln.at
DTSTART;TZID=Europe/Berlin:20231021T150000
DTEND;TZID=Europe/Berlin:20231021T170000
DTSTAMP:20230705T111726Z
URL:https://www.oegv-tulln.at/events/bh-ibgh1-3-2023-10-21/
SUMMARY:BH\, IBGH1-3
DESCRIPTION:Die Grundausbildung (entsprechend BH / BGH-1) umfasst:\n\n 	Lei
 nenführigkeit &amp\; Freifolge\n 	Sitz &amp\; Platz\n 	Ablegen und Herank
 ommen\n\nBevor man beginnt die erste Übung zu trainieren\, sollte als Bas
 is eine optimale Bindung zwischen Hundeführer und Hund erarbeitet werden.
  Als Ziel dieser Phase soll angenommen werden\, dass Hundeführer und Hund
  ein zusammengeschweißtes Team wird\, d.h. der Hund weicht nicht von der 
 Seite des Hundeführers.
CATEGORIES:Kursbetrieb
LOCATION:ÖGV Tulln\, Königstetterstrasse\, Tulln\, 3430\, Österreich
X-APPLE-STRUCTURED-LOCATION;VALUE=URI;X-ADDRESS=Königstetterstrasse\, Tull
 n\, 3430\, Österreich;X-APPLE-RADIUS=100;X-TITLE=ÖGV Tulln:geo:0,0
END:VEVENT
BEGIN:VTIMEZONE
TZID:Europe/Berlin
X-LIC-LOCATION:Europe/Berlin
BEGIN:DAYLIGHT
DTSTART:20230326T030000
TZOFFSETFROM:+0100
TZOFFSETTO:+0200
TZNAME:CEST
END:DAYLIGHT
END:VTIMEZONE
END:VCALENDAR