BEGIN:VCALENDAR
VERSION:2.0
PRODID:-//wp-events-plugin.com//7.2.3.1//EN
TZID:Europe/Vienna
X-WR-TIMEZONE:Europe/Vienna
BEGIN:VEVENT
UID:392@oegv-tulln.at
DTSTART;TZID=Europe/Berlin:20240316T150000
DTEND;TZID=Europe/Berlin:20240316T170000
DTSTAMP:20240321T141721Z
URL:https://www.oegv-tulln.at/events/bh-ibgh1-ibgh2-ibgh3-alltagskurs-2024
 -03-16/
SUMMARY:BH\, IBGH1\, IBGH2\, IBGH3 & Alltagskurs
DESCRIPTION:
LOCATION:ÖGV Tulln\, Königstetterstrasse\, Tulln\, 3430\, Österreich
X-APPLE-STRUCTURED-LOCATION;VALUE=URI;X-ADDRESS=Königstetterstrasse\, Tull
 n\, 3430\, Österreich;X-APPLE-RADIUS=100;X-TITLE=ÖGV Tulln:geo:0,0
END:VEVENT
BEGIN:VTIMEZONE
TZID:Europe/Berlin
X-LIC-LOCATION:Europe/Berlin
BEGIN:STANDARD
DTSTART:20231029T020000
TZOFFSETFROM:+0200
TZOFFSETTO:+0100
TZNAME:CET
END:STANDARD
END:VTIMEZONE
END:VCALENDAR