BEGIN:VCALENDAR
VERSION:2.0
PRODID:-//wp-events-plugin.com//7.2.3.1//EN
TZID:Europe/Vienna
X-WR-TIMEZONE:Europe/Vienna
BEGIN:VEVENT
UID:347@oegv-tulln.at
DTSTART;TZID=Europe/Berlin:20240307T170000
DTEND;TZID=Europe/Berlin:20240307T180000
DTSTAMP:20240321T150116Z
URL:https://www.oegv-tulln.at/events/hoopers-2024-03-07/
SUMMARY:Hoopers
DESCRIPTION:
CATEGORIES:Kursbetrieb
LOCATION:ÖGV Tulln\, Königstetterstrasse\, Tulln\, 3430\, Österreich
X-APPLE-STRUCTURED-LOCATION;VALUE=URI;X-ADDRESS=Königstetterstrasse\, Tull
 n\, 3430\, Österreich;X-APPLE-RADIUS=100;X-TITLE=ÖGV Tulln:geo:0,0
END:VEVENT
BEGIN:VTIMEZONE
TZID:Europe/Berlin
X-LIC-LOCATION:Europe/Berlin
BEGIN:STANDARD
DTSTART:20231029T020000
TZOFFSETFROM:+0200
TZOFFSETTO:+0100
TZNAME:CET
END:STANDARD
END:VTIMEZONE
END:VCALENDAR