BEGIN:VCALENDAR
VERSION:2.0
PRODID:-//wp-events-plugin.com//7.2.3.1//EN
TZID:Europe/Vienna
X-WR-TIMEZONE:Europe/Vienna
BEGIN:VEVENT
UID:283@oegv-tulln.at
DTSTART;TZID=Europe/Berlin:20231110T170000
DTEND;TZID=Europe/Berlin:20231110T190000
DTSTAMP:20230705T112746Z
URL:https://www.oegv-tulln.at/events/rob-2-2023-11-10/
SUMMARY:ROB
DESCRIPTION:Dieser Hundesport ist für praktisch alle Hunde\, unabhängig v
 on deren Alter\, Größe\, Leistungsstand\, etc. und alle Menschen geeigne
 t ist.\n\nDer Spaß an der gemeinsamen Beschäftigung und Zusammenarbeit s
 owie das freudige Erarbeiten der Grundkommandos\, stehen im Vordergrund. A
 us mehr als 80 Schildern werden Parcours aufgestellt und bringen somit imm
 er neue Überraschungen und Herausforderungen auf die Teams. So wird das T
 raining nie langweilig!\nWas ist Rally Obedience?\nEinen Parcours welcher 
 sich aus Schilder ergibt\, auf denen Symbole abgebildet sind\, die beschre
 iben\, was zu tun ist. Diese Aufgaben gehören zum Beispiel Wendungen um 9
 0°\, 180°\, 270° oder sogar 360°\, Platz/Sitz-Wechsel\, Vorsitz-Übung
 en\, Figuren um Kegel gehen\, den Hund über eine Hürde schicken\, Bleib-
 Übungen oder Positionen aus der Bewegung und vieles mehr sein. Der Parcou
 rs ist dabei in Fußarbeit zu absolvieren\, wobei hier ein kleiner Spielra
 um im Vergleich zur klassischen Unterordnung toleriert wird.\n\nAber auch 
 für Turnierhundesportler bringt Rally-Obedience so eine angenehme und her
 ausfordernde Abwechslung mit sich.
CATEGORIES:Kursbetrieb
LOCATION:ÖGV Tulln\, Königstetterstrasse\, Tulln\, 3430\, Österreich
X-APPLE-STRUCTURED-LOCATION;VALUE=URI;X-ADDRESS=Königstetterstrasse\, Tull
 n\, 3430\, Österreich;X-APPLE-RADIUS=100;X-TITLE=ÖGV Tulln:geo:0,0
END:VEVENT
BEGIN:VTIMEZONE
TZID:Europe/Berlin
X-LIC-LOCATION:Europe/Berlin
BEGIN:STANDARD
DTSTART:20231029T020000
TZOFFSETFROM:+0200
TZOFFSETTO:+0100
TZNAME:CET
END:STANDARD
END:VTIMEZONE
END:VCALENDAR